BEGIN:VCALENDAR
PRODID:-//eluceo/ical//2.0/EN
VERSION:2.0
CALSCALE:GREGORIAN
BEGIN:VEVENT
UID:01788aa9a458dd66be85f6c18891acfe
DTSTAMP:20260423T200140Z
SUMMARY:Temple Emanuel Sinai Taschlich Service
DESCRIPTION:Jewish Federation of Central Massachusetts\nCalendar\nhttps://j
 ewishcentralmass.org/calendar/19cal524\n\nTemple Emanuel Sinai Taschlich S
 ervice
DTSTART;TZID=America/New_York:20180916T000000
DTEND;TZID=America/New_York:20180916T235959
END:VEVENT
END:VCALENDAR
