BEGIN:VCALENDAR
PRODID:-//eluceo/ical//2.0/EN
VERSION:2.0
CALSCALE:GREGORIAN
BEGIN:VEVENT
UID:0b46b5a7ad30ba076528787c3d71f1c0
DTSTAMP:20260422T170722Z
SUMMARY:Temple Emanuel Sinai First Day of Hebrew School
DESCRIPTION:Jewish Federation of Central Massachusetts\nCalendar\nhttps://j
 ewishcentralmass.org/calendar/19cal523\n\nTemple Emanuel Sinai First Day o
 f Hebrew School
DTSTART;TZID=America/New_York:20180915T090000
DTEND;TZID=America/New_York:20180915T235959
END:VEVENT
END:VCALENDAR
