BEGIN:VCALENDAR
PRODID:-//eluceo/ical//2.0/EN
VERSION:2.0
CALSCALE:GREGORIAN
BEGIN:VEVENT
UID:364b6e6d2af958c4f4499d4ce5e116b3
DTSTAMP:20260423T005938Z
SUMMARY:Jewish Healthcare Center Finance Committee
DESCRIPTION:Jewish Federation of Central Massachusetts\nCalendar\nhttps://j
 ewishcentralmass.org/calendar/19cal522\n\nJewish Healthcare Center Finance
  Committee
DTSTART;TZID=America/New_York:20180913T073000
DTEND;TZID=America/New_York:20180913T235959
END:VEVENT
END:VCALENDAR
