BEGIN:VCALENDAR
PRODID:-//eluceo/ical//2.0/EN
VERSION:2.0
CALSCALE:GREGORIAN
BEGIN:VEVENT
UID:0ced1eac33aad4fcd9e725a768506f95
DTSTAMP:20260423T023336Z
SUMMARY:Rosh Hashanah
DESCRIPTION:Jewish Federation of Central Massachusetts\nCalendar\nhttps://j
 ewishcentralmass.org/calendar/19cal521\n\nRosh Hashanah
DTSTART;TZID=America/New_York:20180910T000100
DTEND;TZID=America/New_York:20180911T235959
END:VEVENT
END:VCALENDAR
