BEGIN:VCALENDAR
PRODID:-//eluceo/ical//2.0/EN
VERSION:2.0
CALSCALE:GREGORIAN
BEGIN:VEVENT
UID:a95f69c438398fdbc314e7a77bf37a22
DTSTAMP:20260422T162746Z
SUMMARY:Jewish Federation of Central Mass YAD 1st Night Dinner
DESCRIPTION:Jewish Federation of Central Massachusetts\nCalendar\nhttps://j
 ewishcentralmass.org/calendar/19cal520\n\nJewish Federation of Central Mas
 s YAD 1st Night Dinner
DTSTART;TZID=America/New_York:20180909T180000
DTEND;TZID=America/New_York:20180909T235959
END:VEVENT
END:VCALENDAR
