BEGIN:VCALENDAR
PRODID:-//eluceo/ical//2.0/EN
VERSION:2.0
CALSCALE:GREGORIAN
BEGIN:VEVENT
UID:c812c664cd32f3408dfc42f1e3765791
DTSTAMP:20260423T212808Z
SUMMARY:Erev Rosh Hashanah
DESCRIPTION:Jewish Federation of Central Massachusetts\nCalendar\nhttps://j
 ewishcentralmass.org/calendar/19cal519\n\nErev Rosh Hashanah
DTSTART;TZID=America/New_York:20180909T000100
DTEND;TZID=America/New_York:20180909T235959
END:VEVENT
END:VCALENDAR
