BEGIN:VCALENDAR
PRODID:-//eluceo/ical//2.0/EN
VERSION:2.0
CALSCALE:GREGORIAN
BEGIN:VEVENT
UID:81cc418caabe65bba7d8843771dce55c
DTSTAMP:20260423T100630Z
SUMMARY:Jewish Community Center Finance Committee
DESCRIPTION:Jewish Federation of Central Massachusetts\nCalendar\nhttps://j
 ewishcentralmass.org/calendar/19cal515\n\nJewish Community Center Finance 
 Committee
DTSTART;TZID=America/New_York:20180827T193000
DTEND;TZID=America/New_York:20180827T235959
END:VEVENT
END:VCALENDAR
