BEGIN:VCALENDAR
PRODID:-//eluceo/ical//2.0/EN
VERSION:2.0
CALSCALE:GREGORIAN
BEGIN:VEVENT
UID:ce329c4cd844950aa02b0ae1e6b231b9
DTSTAMP:20260424T011551Z
SUMMARY:Congregation Beth Israel Board Meeting
DESCRIPTION:Jewish Federation of Central Massachusetts\nCalendar\nhttps://j
 ewishcentralmass.org/calendar/19cal513\n\nCongregation Beth Israel Board M
 eeting
DTSTART;TZID=America/New_York:20180826T120000
DTEND;TZID=America/New_York:20180826T235959
END:VEVENT
END:VCALENDAR
