BEGIN:VCALENDAR
PRODID:-//eluceo/ical//2.0/EN
VERSION:2.0
CALSCALE:GREGORIAN
BEGIN:VEVENT
UID:c175cc45777389e52795864917a4077a
DTSTAMP:20260423T154445Z
SUMMARY:Temple Emanuel Sinai Prospective Member Open House
DESCRIPTION:Jewish Federation of Central Massachusetts\nCalendar\nhttps://j
 ewishcentralmass.org/calendar/19cal511\n\nTemple Emanuel Sinai Prospective
  Member Open House
DTSTART;TZID=America/New_York:20180823T180000
DTEND;TZID=America/New_York:20180823T235959
END:VEVENT
END:VCALENDAR
