BEGIN:VCALENDAR
PRODID:-//eluceo/ical//2.0/EN
VERSION:2.0
CALSCALE:GREGORIAN
BEGIN:VEVENT
UID:cd9616ec94b55848c4bd6d93132df44c
DTSTAMP:20260423T060453Z
SUMMARY:Congregation B'nai Shalom Board Meeting
DESCRIPTION:Jewish Federation of Central Massachusetts\nCalendar\nhttps://j
 ewishcentralmass.org/calendar/19cal510\n\nCongregation B'nai Shalom Board 
 Meeting
DTSTART;TZID=America/New_York:20180822T193000
DTEND;TZID=America/New_York:20180822T235959
END:VEVENT
END:VCALENDAR
