BEGIN:VCALENDAR
PRODID:-//eluceo/ical//2.0/EN
VERSION:2.0
CALSCALE:GREGORIAN
BEGIN:VEVENT
UID:099aaa4f19bcffdfe9aa617f43834d9a
DTSTAMP:20260423T064019Z
SUMMARY:Jewish Federation of Central Mass YAD Shabbat
DESCRIPTION:Jewish Federation of Central Massachusetts\nCalendar\nhttps://j
 ewishcentralmass.org/calendar/19cal509\n\nJewish Federation of Central Mas
 s YAD Shabbat
DTSTART;TZID=America/New_York:20180817T190000
DTEND;TZID=America/New_York:20180817T235959
END:VEVENT
END:VCALENDAR
