BEGIN:VCALENDAR
PRODID:-//eluceo/ical//2.0/EN
VERSION:2.0
CALSCALE:GREGORIAN
BEGIN:VEVENT
UID:608a7b87a56713198dddf97f6c14c069
DTSTAMP:20260422T154627Z
SUMMARY:Jewish Healthcare Center Golf Tournament
DESCRIPTION:Jewish Federation of Central Massachusetts\nCalendar\nhttps://j
 ewishcentralmass.org/calendar/19cal507\n\nJewish Healthcare Center Golf To
 urnament
DTSTART;TZID=America/New_York:20180806T090000
DTEND;TZID=America/New_York:20180806T235959
END:VEVENT
END:VCALENDAR
