BEGIN:VCALENDAR
PRODID:-//eluceo/ical//2.0/EN
VERSION:2.0
CALSCALE:GREGORIAN
BEGIN:VEVENT
UID:ad739ec6530f4c7cabb8ef96f7b1dfdd
DTSTAMP:20260423T190039Z
SUMMARY:Jewish Community Center Tanglewood Bus Tour
DESCRIPTION:Jewish Federation of Central Massachusetts\nCalendar\nhttps://j
 ewishcentralmass.org/calendar/19cal506\n\nJewish Community Center Tanglewo
 od Bus Tour
DTSTART;TZID=America/New_York:20180805T090000
DTEND;TZID=America/New_York:20180805T235959
END:VEVENT
END:VCALENDAR
