BEGIN:VCALENDAR
PRODID:-//eluceo/ical//2.0/EN
VERSION:2.0
CALSCALE:GREGORIAN
BEGIN:VEVENT
UID:2eb2976fc10be2e399f09840811208d8
DTSTAMP:20260423T125744Z
SUMMARY:Congregation B'nai Shalom Board Meeting
DESCRIPTION:Jewish Federation of Central Massachusetts\nCalendar\nhttps://j
 ewishcentralmass.org/calendar/19cal503\n\nCongregation B'nai Shalom Board 
 Meeting
DTSTART;TZID=America/New_York:20180725T193000
DTEND;TZID=America/New_York:20180725T235959
END:VEVENT
END:VCALENDAR
