BEGIN:VCALENDAR
PRODID:-//eluceo/ical//2.0/EN
VERSION:2.0
CALSCALE:GREGORIAN
BEGIN:VEVENT
UID:370b3108fc2404aabaf5bcbecf45f98c
DTSTAMP:20260423T084525Z
SUMMARY:Jewish Federation of Central Mass YAD Shabbat
DESCRIPTION:Jewish Federation of Central Massachusetts\nCalendar\nhttps://j
 ewishcentralmass.org/calendar/19cal502\n\nJewish Federation of Central Mas
 s YAD Shabbat
DTSTART;TZID=America/New_York:20180720T190000
DTEND;TZID=America/New_York:20180720T235959
END:VEVENT
END:VCALENDAR
