BEGIN:VCALENDAR
PRODID:-//eluceo/ical//2.0/EN
VERSION:2.0
CALSCALE:GREGORIAN
BEGIN:VEVENT
UID:718f5b01e46641fc53fbd74ac5af8294
DTSTAMP:20260424T042452Z
SUMMARY:Congregation B'nai Shalom Board Meeting
DESCRIPTION:Jewish Federation of Central Massachusetts\nCalendar\nhttps://j
 ewishcentralmass.org/calendar/18cal325\n\nCongregation B'nai Shalom Board 
 Meeting
DTSTART;TZID=America/New_York:20180627T193000
DTEND;TZID=America/New_York:20180627T210000
END:VEVENT
END:VCALENDAR
