BEGIN:VCALENDAR
PRODID:-//eluceo/ical//2.0/EN
VERSION:2.0
CALSCALE:GREGORIAN
BEGIN:VEVENT
UID:a29b95c595474b663c7984de863c2129
DTSTAMP:20260423T114330Z
SUMMARY:Jewish Healthcare Center Annual Meeting
DESCRIPTION:Jewish Federation of Central Massachusetts\nCalendar\nhttps://j
 ewishcentralmass.org/calendar/18cal323\n\nJewish Healthcare Center Annual 
 Meeting
DTSTART;TZID=America/New_York:20180620T173000
DTEND;TZID=America/New_York:20180620T200000
END:VEVENT
END:VCALENDAR
