BEGIN:VCALENDAR
PRODID:-//eluceo/ical//2.0/EN
VERSION:2.0
CALSCALE:GREGORIAN
BEGIN:VEVENT
UID:f55228cc3759fc6195e93f5396c3e588
DTSTAMP:20260423T142903Z
SUMMARY:Father's Day
DESCRIPTION:Jewish Federation of Central Massachusetts\nCalendar\nhttps://j
 ewishcentralmass.org/calendar/18cal322\n\nFather's Day
DTSTART;TZID=America/New_York:20180617T000100
DTEND;TZID=America/New_York:20180617T235900
END:VEVENT
END:VCALENDAR
