BEGIN:VCALENDAR
PRODID:-//eluceo/ical//2.0/EN
VERSION:2.0
CALSCALE:GREGORIAN
BEGIN:VEVENT
UID:55b00d37a314e5f2a393bc541617387d
DTSTAMP:20260423T064049Z
SUMMARY:Beth Tikvah Annual Meeting
DESCRIPTION:Jewish Federation of Central Massachusetts\nCalendar\nhttps://j
 ewishcentralmass.org/calendar/18cal318\n\nBeth Tikvah Annual Meeting
DTSTART;TZID=America/New_York:20180610T100000
DTEND;TZID=America/New_York:20180610T120000
END:VEVENT
END:VCALENDAR
