BEGIN:VCALENDAR
PRODID:-//eluceo/ical//2.0/EN
VERSION:2.0
CALSCALE:GREGORIAN
BEGIN:VEVENT
UID:97ddbaf05d7cdc3c008adf79c58e47f5
DTSTAMP:20260423T184457Z
SUMMARY:Jewish Federation of Central Mass Board Meeting
DESCRIPTION:Jewish Federation of Central Massachusetts\nCalendar\nhttps://j
 ewishcentralmass.org/calendar/18cal317\n\nJewish Federation of Central Mas
 s Board Meeting
DTSTART;TZID=America/New_York:20180612T193000
DTEND;TZID=America/New_York:20180612T213000
END:VEVENT
END:VCALENDAR
