BEGIN:VCALENDAR
PRODID:-//eluceo/ical//2.0/EN
VERSION:2.0
CALSCALE:GREGORIAN
BEGIN:VEVENT
UID:4085b4f2b015f8a14637ec137d8a6dfb
DTSTAMP:20260423T092446Z
SUMMARY:Temple Emanuel Sinai Eco Shabbat
DESCRIPTION:Jewish Federation of Central Massachusetts\nCalendar\nhttps://j
 ewishcentralmass.org/calendar/18cal316\n\nTemple Emanuel Sinai Eco Shabbat
DTSTART;TZID=America/New_York:20180602T090000
DTEND;TZID=America/New_York:20180602T110000
END:VEVENT
END:VCALENDAR
