BEGIN:VCALENDAR
PRODID:-//eluceo/ical//2.0/EN
VERSION:2.0
CALSCALE:GREGORIAN
BEGIN:VEVENT
UID:14f5423b33144fcfa6ce7b8ebcde200e
DTSTAMP:20260423T023346Z
SUMMARY:Jewish Healthcare Center Board Meeting
DESCRIPTION:Jewish Federation of Central Massachusetts\nCalendar\nhttps://j
 ewishcentralmass.org/calendar/18cal315\n\nJewish Healthcare Center Board M
 eeting
DTSTART;TZID=America/New_York:20180528T193000
DTEND;TZID=America/New_York:20180528T210000
END:VEVENT
END:VCALENDAR
