BEGIN:VCALENDAR
PRODID:-//eluceo/ical//2.0/EN
VERSION:2.0
CALSCALE:GREGORIAN
BEGIN:VEVENT
UID:2f5565ec0b02d6f2bd97bc49c1c63bfe
DTSTAMP:20260422T123236Z
SUMMARY:Memorial Day
DESCRIPTION:Jewish Federation of Central Massachusetts\nCalendar\nhttps://j
 ewishcentralmass.org/calendar/18cal314\n\nMemorial Day
DTSTART;TZID=America/New_York:20180528T000100
DTEND;TZID=America/New_York:20180528T235900
END:VEVENT
END:VCALENDAR
