BEGIN:VCALENDAR
PRODID:-//eluceo/ical//2.0/EN
VERSION:2.0
CALSCALE:GREGORIAN
BEGIN:VEVENT
UID:e3b5e88c21c895bcb68feb2a8370c954
DTSTAMP:20260421T143258Z
SUMMARY:Congregation B'nai Shalom Family Brunch Program
DESCRIPTION:Jewish Federation of Central Massachusetts\nCalendar\nhttps://j
 ewishcentralmass.org/calendar/18cal311\n\nCongregation B'nai Shalom Family
  Brunch Program
DTSTART;TZID=America/New_York:20180520T093000
DTEND;TZID=America/New_York:20180520T110000
END:VEVENT
END:VCALENDAR
