BEGIN:VCALENDAR
PRODID:-//eluceo/ical//2.0/EN
VERSION:2.0
CALSCALE:GREGORIAN
BEGIN:VEVENT
UID:edb335bb488ba2c0ea583d36de17eeae
DTSTAMP:20260425T171011Z
SUMMARY:Shavuot
DESCRIPTION:Jewish Federation of Central Massachusetts\nCalendar\nhttps://j
 ewishcentralmass.org/calendar/18cal310\n\nShavuot
DTSTART;TZID=America/New_York:20180520T000100
DTEND;TZID=America/New_York:20180521T235900
END:VEVENT
END:VCALENDAR
