BEGIN:VCALENDAR
PRODID:-//eluceo/ical//2.0/EN
VERSION:2.0
CALSCALE:GREGORIAN
BEGIN:VEVENT
UID:9bf88ab15f7dc2a47b12d61acf1d4625
DTSTAMP:20260422T080935Z
SUMMARY:Temple Emanuel Sinai Confirmation Service
DESCRIPTION:Jewish Federation of Central Massachusetts\nCalendar\nhttps://j
 ewishcentralmass.org/calendar/18cal309\n\nTemple Emanuel Sinai Confirmatio
 n Service
DTSTART;TZID=America/New_York:20180518T193000
DTEND;TZID=America/New_York:20180518T210000
END:VEVENT
END:VCALENDAR
