BEGIN:VCALENDAR
PRODID:-//eluceo/ical//2.0/EN
VERSION:2.0
CALSCALE:GREGORIAN
BEGIN:VEVENT
UID:18bb8a8900e59d3be483cd996a8f0542
DTSTAMP:20260424T011257Z
SUMMARY:Congregation B'nai Shalom Confirmation Service
DESCRIPTION:Jewish Federation of Central Massachusetts\nCalendar\nhttps://j
 ewishcentralmass.org/calendar/18cal308\n\nCongregation B'nai Shalom Confir
 mation Service
DTSTART;TZID=America/New_York:20180519T180000
DTEND;TZID=America/New_York:20180519T200000
END:VEVENT
END:VCALENDAR
