BEGIN:VCALENDAR
PRODID:-//eluceo/ical//2.0/EN
VERSION:2.0
CALSCALE:GREGORIAN
BEGIN:VEVENT
UID:7f7502f02ef57df459ded3604b584900
DTSTAMP:20260422T172121Z
SUMMARY:Jewish Federation of Central MA YAD Monthly Shabbat Dinner
DESCRIPTION:Jewish Federation of Central Massachusetts\nCalendar\nhttps://j
 ewishcentralmass.org/calendar/18cal307\n\nJewish Federation of Central MA 
 YAD Monthly Shabbat Dinner
DTSTART;TZID=America/New_York:20180518T190000
DTEND;TZID=America/New_York:20180518T210000
END:VEVENT
END:VCALENDAR
