BEGIN:VCALENDAR
PRODID:-//eluceo/ical//2.0/EN
VERSION:2.0
CALSCALE:GREGORIAN
BEGIN:VEVENT
UID:5adfc8e739409a63c5defe22c9adfc1a
DTSTAMP:20260423T060155Z
SUMMARY:Jewish Community Center Board Meeting
DESCRIPTION:Jewish Federation of Central Massachusetts\nCalendar\nhttps://j
 ewishcentralmass.org/calendar/18cal305\n\nJewish Community Center Board Me
 eting
DTSTART;TZID=America/New_York:20180517T193000
DTEND;TZID=America/New_York:20180517T210000
END:VEVENT
END:VCALENDAR
