BEGIN:VCALENDAR
PRODID:-//eluceo/ical//2.0/EN
VERSION:2.0
CALSCALE:GREGORIAN
BEGIN:VEVENT
UID:1b288f8d97c4048c927efd6a627f40d2
DTSTAMP:20260423T204411Z
SUMMARY:Congregation B'nai Shalom Executive Board Meeting
DESCRIPTION:Jewish Federation of Central Massachusetts\nCalendar\nhttps://j
 ewishcentralmass.org/calendar/18cal304\n\nCongregation B'nai Shalom Execut
 ive Board Meeting
DTSTART;TZID=America/New_York:20180516T193000
DTEND;TZID=America/New_York:20180516T210000
END:VEVENT
END:VCALENDAR
