BEGIN:VCALENDAR
PRODID:-//eluceo/ical//2.0/EN
VERSION:2.0
CALSCALE:GREGORIAN
BEGIN:VEVENT
UID:863c89882a1b432e1c0d32f18c6348a6
DTSTAMP:20260423T212526Z
SUMMARY:Congregation Beth Israel Last Day of Religious School
DESCRIPTION:Jewish Federation of Central Massachusetts\nCalendar\nhttps://j
 ewishcentralmass.org/calendar/18cal302\n\nCongregation Beth Israel Last Da
 y of Religious School
DTSTART;TZID=America/New_York:20180516T160000
DTEND;TZID=America/New_York:20180516T180000
END:VEVENT
END:VCALENDAR
