BEGIN:VCALENDAR
PRODID:-//eluceo/ical//2.0/EN
VERSION:2.0
CALSCALE:GREGORIAN
BEGIN:VEVENT
UID:7bb6724bc7d9040cfc33b52fe9b235d9
DTSTAMP:20260422T194338Z
SUMMARY:Temple Emanuel Sinai Board Meeting
DESCRIPTION:Jewish Federation of Central Massachusetts\nCalendar\nhttps://j
 ewishcentralmass.org/calendar/18cal301\n\nTemple Emanuel Sinai Board Meeti
 ng
DTSTART;TZID=America/New_York:20180514T193000
DTEND;TZID=America/New_York:20180514T210000
END:VEVENT
END:VCALENDAR
