BEGIN:VCALENDAR
PRODID:-//eluceo/ical//2.0/EN
VERSION:2.0
CALSCALE:GREGORIAN
BEGIN:VEVENT
UID:5deb73f5f0466d26d7e883be29325bfe
DTSTAMP:20260422T194615Z
SUMMARY:Mother's Day
DESCRIPTION:Jewish Federation of Central Massachusetts\nCalendar\nhttps://j
 ewishcentralmass.org/calendar/18cal300\n\nMother's Day
DTSTART;TZID=America/New_York:20180513T000100
DTEND;TZID=America/New_York:20180513T235900
END:VEVENT
END:VCALENDAR
