BEGIN:VCALENDAR
PRODID:-//eluceo/ical//2.0/EN
VERSION:2.0
CALSCALE:GREGORIAN
BEGIN:VEVENT
UID:b82bbe19072cc36ce610ef284d99effd
DTSTAMP:20260421T234643Z
SUMMARY:Congregation B'nai Shalom Havdallah Service
DESCRIPTION:Jewish Federation of Central Massachusetts\nCalendar\nhttps://j
 ewishcentralmass.org/calendar/18cal299\n\nCongregation B'nai Shalom Havdal
 lah Service
DTSTART;TZID=America/New_York:20180512T160000
DTEND;TZID=America/New_York:20180512T190000
END:VEVENT
END:VCALENDAR
