BEGIN:VCALENDAR
PRODID:-//eluceo/ical//2.0/EN
VERSION:2.0
CALSCALE:GREGORIAN
BEGIN:VEVENT
UID:a2d258304518bf577ffb1e29936e2e7a
DTSTAMP:20260423T043811Z
SUMMARY:Temple Emanuel Sinai Last day of Hebrew School
DESCRIPTION:Jewish Federation of Central Massachusetts\nCalendar\nhttps://j
 ewishcentralmass.org/calendar/18cal298\n\nTemple Emanuel Sinai Last day of
  Hebrew School
DTSTART;TZID=America/New_York:20180512T090000
DTEND;TZID=America/New_York:20180512T110000
END:VEVENT
END:VCALENDAR
