BEGIN:VCALENDAR
PRODID:-//eluceo/ical//2.0/EN
VERSION:2.0
CALSCALE:GREGORIAN
BEGIN:VEVENT
UID:1d1b2380bb1b9125d756a05b02818334
DTSTAMP:20260422T120223Z
SUMMARY:Congregation B'nai Shalom Board Recognition Shabbat
DESCRIPTION:Jewish Federation of Central Massachusetts\nCalendar\nhttps://j
 ewishcentralmass.org/calendar/18cal297\n\nCongregation B'nai Shalom Board 
 Recognition Shabbat
DTSTART;TZID=America/New_York:20180511T193000
DTEND;TZID=America/New_York:20180511T210000
END:VEVENT
END:VCALENDAR
