BEGIN:VCALENDAR
PRODID:-//eluceo/ical//2.0/EN
VERSION:2.0
CALSCALE:GREGORIAN
BEGIN:VEVENT
UID:f0bfae244cda2afd27c0e6ac0f66ceeb
DTSTAMP:20260422T033822Z
SUMMARY:Worcester Community Hebrew High School Graduation
DESCRIPTION:Jewish Federation of Central Massachusetts\nCalendar\nhttps://j
 ewishcentralmass.org/calendar/18cal295\n\nWorcester Community Hebrew High 
 School Graduation
DTSTART;TZID=America/New_York:20180516T190000
DTEND;TZID=America/New_York:20180516T210000
END:VEVENT
END:VCALENDAR
