BEGIN:VCALENDAR
PRODID:-//eluceo/ical//2.0/EN
VERSION:2.0
CALSCALE:GREGORIAN
BEGIN:VEVENT
UID:8b7682b4ffe67d27fb110a1fbfdae0b0
DTSTAMP:20260424T070948Z
SUMMARY:Congregation B'nai Shalom Annual Meeting
DESCRIPTION:Jewish Federation of Central Massachusetts\nCalendar\nhttps://j
 ewishcentralmass.org/calendar/18cal294\n\nCongregation B'nai Shalom Annual
  Meeting
DTSTART;TZID=America/New_York:20180506T090000
DTEND;TZID=America/New_York:20180506T110000
END:VEVENT
END:VCALENDAR
