BEGIN:VCALENDAR
PRODID:-//eluceo/ical//2.0/EN
VERSION:2.0
CALSCALE:GREGORIAN
BEGIN:VEVENT
UID:fd114165bc66fc689c38b13da5f4fe43
DTSTAMP:20260423T114106Z
SUMMARY:Congregation B'nai Shalom High School Recognition Service
DESCRIPTION:Jewish Federation of Central Massachusetts\nCalendar\nhttps://j
 ewishcentralmass.org/calendar/18cal292\n\nCongregation B'nai Shalom High S
 chool Recognition Service
DTSTART;TZID=America/New_York:20180504T184500
DTEND;TZID=America/New_York:20180504T210000
END:VEVENT
END:VCALENDAR
