BEGIN:VCALENDAR
PRODID:-//eluceo/ical//2.0/EN
VERSION:2.0
CALSCALE:GREGORIAN
BEGIN:VEVENT
UID:bb2c3429284505e3df68e9e86e5b6070
DTSTAMP:20260423T161004Z
SUMMARY:Temple Emanuel Sinai Scholar in Residence Anita Diamant
DESCRIPTION:Jewish Federation of Central Massachusetts\nCalendar\nhttps://j
 ewishcentralmass.org/calendar/18cal291\n\nTemple Emanuel Sinai Scholar in 
 Residence Anita Diamant
DTSTART;TZID=America/New_York:20180504T160000
DTEND;TZID=America/New_York:20180506T140000
END:VEVENT
END:VCALENDAR
