BEGIN:VCALENDAR
PRODID:-//eluceo/ical//2.0/EN
VERSION:2.0
CALSCALE:GREGORIAN
BEGIN:VEVENT
UID:4bb8c6a608c1f3085e7dfdd4aa207555
DTSTAMP:20260423T044932Z
SUMMARY:Lag Ba'Omer
DESCRIPTION:Jewish Federation of Central Massachusetts\nCalendar\nhttps://j
 ewishcentralmass.org/calendar/18cal290\n\nLag Ba'Omer
DTSTART;TZID=America/New_York:20180503T000100
DTEND;TZID=America/New_York:20180503T235900
END:VEVENT
END:VCALENDAR
