BEGIN:VCALENDAR
PRODID:-//eluceo/ical//2.0/EN
VERSION:2.0
CALSCALE:GREGORIAN
BEGIN:VEVENT
UID:25cb48407226c91d150778036ca64a9d
DTSTAMP:20260423T212639Z
SUMMARY:Jewish Federation of Central Mass Board Meeting
DESCRIPTION:Jewish Federation of Central Massachusetts\nCalendar\nhttps://j
 ewishcentralmass.org/calendar/18cal289\n\nJewish Federation of Central Mas
 s Board Meeting
DTSTART;TZID=America/New_York:20180508T193000
DTEND;TZID=America/New_York:20180508T213000
END:VEVENT
END:VCALENDAR
