BEGIN:VCALENDAR
PRODID:-//eluceo/ical//2.0/EN
VERSION:2.0
CALSCALE:GREGORIAN
BEGIN:VEVENT
UID:cf7c801396391ef3082261c7b7c1110b
DTSTAMP:20260423T012122Z
SUMMARY:PJ Library @ Beth Tikvah
DESCRIPTION:Jewish Federation of Central Massachusetts\nCalendar\nhttps://j
 ewishcentralmass.org/calendar/18cal286\n\nPJ Library @ Beth Tikvah
DTSTART;TZID=America/New_York:20180429T093000
DTEND;TZID=America/New_York:20180429T110000
END:VEVENT
END:VCALENDAR
