BEGIN:VCALENDAR
PRODID:-//eluceo/ical//2.0/EN
VERSION:2.0
CALSCALE:GREGORIAN
BEGIN:VEVENT
UID:761d4583874efceab0a686f150e0bfcd
DTSTAMP:20260424T061202Z
SUMMARY:Yom Ha'atzmaut
DESCRIPTION:Jewish Federation of Central Massachusetts\nCalendar\nhttps://j
 ewishcentralmass.org/calendar/18cal280\n\nYom Ha'atzmaut
DTSTART;TZID=America/New_York:20180419T000100
DTEND;TZID=America/New_York:20180419T235900
END:VEVENT
END:VCALENDAR
