BEGIN:VCALENDAR
PRODID:-//eluceo/ical//2.0/EN
VERSION:2.0
CALSCALE:GREGORIAN
BEGIN:VEVENT
UID:c802731154971cb1fd637f9140d6c3e4
DTSTAMP:20260423T190215Z
SUMMARY:Jewish Community Center Board Meeting
DESCRIPTION:Jewish Federation of Central Massachusetts\nCalendar\nhttps://j
 ewishcentralmass.org/calendar/18cal275\n\nJewish Community Center Board Me
 eting
DTSTART;TZID=America/New_York:20180412T193000
DTEND;TZID=America/New_York:20180412T210000
END:VEVENT
END:VCALENDAR
