BEGIN:VCALENDAR
PRODID:-//eluceo/ical//2.0/EN
VERSION:2.0
CALSCALE:GREGORIAN
BEGIN:VEVENT
UID:39cf634b77c92810c5f1ad15ff38c41f
DTSTAMP:20260423T100120Z
SUMMARY:Temple Emanuel Sinai Board Meeting
DESCRIPTION:Jewish Federation of Central Massachusetts\nCalendar\nhttps://j
 ewishcentralmass.org/calendar/18cal271\n\nTemple Emanuel Sinai Board Meeti
 ng
DTSTART;TZID=America/New_York:20180409T193000
DTEND;TZID=America/New_York:20180409T210000
END:VEVENT
END:VCALENDAR
