BEGIN:VCALENDAR
PRODID:-//eluceo/ical//2.0/EN
VERSION:2.0
CALSCALE:GREGORIAN
BEGIN:VEVENT
UID:bc96aa95eee9edd44a129dcd724ef728
DTSTAMP:20260425T110043Z
SUMMARY:Temple Emanual Sinai Seder
DESCRIPTION:Jewish Federation of Central Massachusetts\nCalendar\nhttps://j
 ewishcentralmass.org/calendar/18cal270\n\nTemple Emanual Sinai Seder
DTSTART;TZID=America/New_York:20180331T180000
DTEND;TZID=America/New_York:20180331T210000
END:VEVENT
END:VCALENDAR
