BEGIN:VCALENDAR
PRODID:-//eluceo/ical//2.0/EN
VERSION:2.0
CALSCALE:GREGORIAN
BEGIN:VEVENT
UID:d0066dbb001ae1c44cef67ef4c79b214
DTSTAMP:20260423T120158Z
SUMMARY:Passover
DESCRIPTION:Jewish Federation of Central Massachusetts\nCalendar\nhttps://j
 ewishcentralmass.org/calendar/18cal269\n\nPassover
DTSTART;TZID=America/New_York:20180331T120100
DTEND;TZID=America/New_York:20180407T235900
END:VEVENT
END:VCALENDAR
