BEGIN:VCALENDAR
PRODID:-//eluceo/ical//2.0/EN
VERSION:2.0
CALSCALE:GREGORIAN
BEGIN:VEVENT
UID:37116ade1d45f3ebc096e91b8e9cef80
DTSTAMP:20260424T144919Z
SUMMARY:Congregation B'nai Shalom Seder
DESCRIPTION:Jewish Federation of Central Massachusetts\nCalendar\nhttps://j
 ewishcentralmass.org/calendar/18cal267\n\nCongregation B'nai Shalom Seder
DTSTART;TZID=America/New_York:20180330T180000
DTEND;TZID=America/New_York:20180330T200000
END:VEVENT
END:VCALENDAR
