BEGIN:VCALENDAR
PRODID:-//eluceo/ical//2.0/EN
VERSION:2.0
CALSCALE:GREGORIAN
BEGIN:VEVENT
UID:e20bb5e985bd771b8ec8b64c57c870ad
DTSTAMP:20260423T113909Z
SUMMARY:First Seder
DESCRIPTION:Jewish Federation of Central Massachusetts\nCalendar\nhttps://j
 ewishcentralmass.org/calendar/18cal266\n\nFirst Seder
DTSTART;TZID=America/New_York:20180330T000100
DTEND;TZID=America/New_York:20180330T235900
END:VEVENT
END:VCALENDAR
